BEGIN:VCALENDAR
VERSION:2.0
PRODID:-//ChamberMaster//Event Calendar 2.0//EN
METHOD:PUBLISH
X-PUBLISHED-TTL:P3D
REFRESH-INTERVAL:P3D
CALSCALE:GREGORIAN
BEGIN:VEVENT
DTSTART:20260730T013000Z
DTEND:20260730T033000Z
X-MICROSOFT-CDO-ALLDAYEVENT:FALSE
SUMMARY:Music in the Park\, Truckee
DESCRIPTION:Truckee Donner Recreation and Park District and Val Videgain Real Estate Team present Music in the Park\, a community gathering with great music every Wednesday from June 17 - August 26 from 6:30 - 8:30 pm.\n\nWeekly Music Line-up\n\nJune 17 - Boot Juice\n\nJune 24- New Wave Crave\n\nJuly 1- Sonido Sueno\n\nJuly 8 - Blues Monsters\n\nJuly 15 - Broken  Compass Bluegrass\n\nJuly 22 - Down the Rabbit Hole\n\nJuly 29 - Dead Winter Carpenters\n\nAug 5 - Pressing Strings\n\nAug 12 - Beatles Flashback\n\nAug 19 - Matt Axton\n\nAug 26 - Deja Vu\n\nBring a blanket or low-back chairs and a picnic dinner. This is one of Truckee's favorite annual summer events. \n\nTo ensure the safety and enjoyment of all who attend: \n\n\n	No smoking and no dogs\n	Please supervise your children at all times.\n	Picnics are welcome. No glass\, please.\n	Your contribution of any amount helps to ensure a full schedule of concert dates\, as event costs continue to rise. Look for the blue donation boxes. Thank you!
X-ALT-DESC;FMTTYPE=text/html:<p>Truckee Donner Recreation and Park District and Val Videgain Real Estate Team present&nbsp\;Music in the Park\, a community gathering with great music&nbsp\;every Wednesday from June 17&nbsp\;- August 26&nbsp\;from 6:30 - 8:30 pm.<br />\nWeekly Music Line-up<br />\nJune 17 - Boot Juice<br />\nJune 24- New Wave Crave<br />\nJuly 1- Sonido Sueno<br />\nJuly 8 - Blues Monsters<br />\nJuly 15 - Broken&nbsp\; Compass Bluegrass<br />\nJuly 22 - Down the Rabbit Hole<br />\nJuly 29 - Dead Winter Carpenters<br />\nAug 5 - Pressing Strings<br />\nAug 12 - Beatles Flashback<br />\nAug 19 - Matt Axton<br />\nAug 26 - Deja Vu<br />\nBring a blanket or low-back chairs and a picnic dinner. This is one of Truckee&#39\;s favorite annual summer events.&nbsp\;</p>\n\n<p>To ensure the safety and enjoyment of all who attend:&nbsp\;</p>\n\n<ul>\n	<li>No smoking and no dogs</li>\n	<li>Please supervise your children at all times.</li>\n	<li>Picnics are welcome. No&nbsp\;glass\, please.</li>\n	<li>Your contribution of any amount helps to ensure a full schedule of concert dates\, as event costs continue to rise. Look for the blue donation boxes. Thank you!</li>\n</ul>\n
LOCATION:Truckee River Regional Park "Salty" Gebhardt Amphitheater
UID:e.2339.83691
SEQUENCE:3
DTSTAMP:20260423T032557Z
URL:https://test.truckee.com/events/details/music-in-the-park-truckee-07-29-2026-83691
END:VEVENT

END:VCALENDAR
