BEGIN:VCALENDAR
VERSION:2.0
PRODID:-//ChamberMaster//Event Calendar 2.0//EN
METHOD:PUBLISH
X-PUBLISHED-TTL:P3D
REFRESH-INTERVAL:P3D
CALSCALE:GREGORIAN
BEGIN:VEVENT
DTSTART:20260424T000000Z
DTEND:20260424T020000Z
X-MICROSOFT-CDO-ALLDAYEVENT:FALSE
SUMMARY:April Networking Mixer: Hosted by Mountain High BNI and Engel & Völkers
DESCRIPTION:All Truckee Chamber Members are invited to join us for our April Networking Mixer hosted by Mountain High BNI (Business Network International) and Engel & V lkers! \n\nCome hang out in downtown Truckee before the Follies and get your networking on. Enjoy great food\, drinks\, and even better company this is the perfect chance to connect\, unwind\, and kick off your evening with the local business community and to check out the historic Flying A building!\n\n\n\nAbout Mountain High BNI\n\nMountain High BNI is a dynamic business networking group serving professionals in the Truckee Tahoe region. Built on the principle of "Givers Gain\," the chapter brings together local business owners and leaders who are committed to supporting each other through referrals\, collaboration\, and trusted relationships. Members meet regularly to share opportunities\, strengthen their networks\, and grow their businesses in a structured\, positive environment.\n\nMountain High BNI focuses on accountability\, professional development\, and community connection. By fostering meaningful partnerships and consistent engagement\, the group helps members expand their reach while contributing to a strong\, locally rooted business community.\n\n\n\nAbout Engel & V lkers\n\nEngel & V lkers in Truckee offers a refined\, client-focused approach to buying and selling property in the Sierra Nevada region. Known for its global network and local expertise\, the Truckee shop specializes in luxury homes\, mountain retreats\, and investment properties near Lake Tahoe. Their advisors combine deep market knowledge with a personalized touch\, guiding clients through every step of the process with clarity and care.\n\nLocated in the heart of downtown\, the office is housed in the historic Flying A Building\, a local landmark that reflects Truckee's rich past. Thoughtfully restored\, the space blends vintage character with a clean\, modern feel\, creating a setting that mirrors the brand's mix of tradition and innovation.\n\nWhether you're searching for a modern ski home\, a peaceful cabin\, or a full-time residence\, Engel & V lkers Truckee emphasizes quality service and strong relationships. Backed by an international brand with European roots\, the team brings a high standard of marketing\, presentation\, and negotiation to each listing. Their goal is simple: to connect people with properties that truly fit their lifestyle\, while making the experience smooth and well-informed.
X-ALT-DESC;FMTTYPE=text/html:<p data-end="131" data-start="0">All Truckee Chamber Members are invited to join us for our April Networking Mixer&nbsp\;hosted by Mountain High&nbsp\;<span class="hover:entity-accent entity-underline inline cursor-pointer align-baseline">BNI (Business Network International)</span> and <span class="hover:entity-accent entity-underline inline cursor-pointer align-baseline">Engel &amp\; V&ouml\;lkers</span>!&nbsp\;</p>\n\n<p data-end="371" data-is-last-node="" data-is-only-node="" data-start="133">Come hang out in downtown Truckee before the Follies and get your networking on. Enjoy great food\, drinks\, and even better company&mdash\;this is the perfect chance to connect\, unwind\, and kick off your evening with the local business community and to check out the historic Flying A building!<br />\n<br />\n<em><strong>About Mountain High BNI</strong></em></p>\n\n<p data-end="491" data-start="0"><em>Mountain High BNI is a dynamic business networking group serving professionals in the Truckee&ndash\;Tahoe region. Built on the principle of &ldquo\;Givers Gain\,&rdquo\; the chapter brings together local business owners and leaders who are committed to supporting each other through referrals\, collaboration\, and trusted relationships. Members meet regularly to share opportunities\, strengthen their networks\, and grow their businesses in a structured\, positive environment.</em></p>\n\n<p data-end="763" data-is-last-node="" data-is-only-node="" data-start="493"><em>Mountain High BNI focuses on accountability\, professional development\, and community connection. By fostering meaningful partnerships and consistent engagement\, the group helps members expand their reach while contributing to a strong\, locally rooted business community.<br />\n<br />\n<strong>About&nbsp\;Engel &amp\; V&ouml\;lkers</strong></em></p>\n\n<p data-end="483" data-start="0"><em><span class="hover:entity-accent entity-underline inline cursor-pointer align-baseline">Engel &amp\; V&ouml\;lkers</span> in <span class="hover:entity-accent entity-underline inline cursor-pointer align-baseline">Truckee</span> offers a refined\, client-focused approach to buying and selling property in the Sierra Nevada region. Known for its global network and local expertise\, the Truckee shop specializes in luxury homes\, mountain retreats\, and investment properties near Lake Tahoe. Their advisors combine deep market knowledge with a personalized touch\, guiding clients through every step of the process with clarity and care.</em></p>\n\n<p data-end="808" data-start="485"><em>Located in the heart of downtown\, the office is housed in the historic <span class="hover:entity-accent entity-underline inline cursor-pointer align-baseline">Flying A Building</span>\, a local landmark that reflects Truckee&rsquo\;s rich past. Thoughtfully restored\, the space blends vintage character with a clean\, modern feel\, creating a setting that mirrors the brand&rsquo\;s mix of tradition and innovation.</em></p>\n\n<p data-end="1267" data-is-last-node="" data-is-only-node="" data-start="810"><em>Whether you&rsquo\;re searching for a modern ski home\, a peaceful cabin\, or a full-time residence\, Engel &amp\; V&ouml\;lkers Truckee emphasizes quality service and strong relationships. Backed by an international brand with European roots\, the team brings a high standard of marketing\, presentation\, and negotiation to each listing. Their goal is simple: to connect people with properties that truly fit their lifestyle\, while making the experience smooth and well-informed.</em></p>\n\n<p data-end="371" data-is-last-node="" data-is-only-node="" data-start="133"><br />\n&nbsp\;</p>\n
LOCATION:Engel & V lkers
UID:e.2339.83527
SEQUENCE:3
DTSTAMP:20260421T171035Z
URL:https://test.truckee.com/events/details/april-networking-mixer-hosted-by-bni-and-engel-v&#246;lkers-83527
END:VEVENT

END:VCALENDAR
