BEGIN:VCALENDAR
VERSION:2.0
PRODID:-//ChamberMaster//Event Calendar 2.0//EN
METHOD:PUBLISH
X-PUBLISHED-TTL:P3D
REFRESH-INTERVAL:P3D
CALSCALE:GREGORIAN
BEGIN:VEVENT
DTSTART:20260424T003000Z
DTEND:20260424T014500Z
X-MICROSOFT-CDO-ALLDAYEVENT:FALSE
SUMMARY:April Midlife Women's Wellness Gathering- Understanding Cortisol to help balance hormones
DESCRIPTION:Cortisol is our bossiest midlife hormone. Learn how it changes in midlife and how to get it to work for you so you can: burn fat\, feel relaxed\, sleep well\, balance mood\, support hormones\, and more. Learn surprising things that impact cortisol and ways to work with it.\n\nEnjoy a wonderful stress reducing practice with the incredible Nicole Koch of PowerRestoreYoga. Nicole will weave in breath\, qigong\, and vagus nerve wisdom to help calm your cortisol. April will be loaded with AHA moments where you understand your body and how to work with it to balance hormones. Each month we gather together with a new guest cohost to learn about our shifting midlife biology and find tools to improve how we feel. It takes a village! Get your ticket while you can.  Janel Anderson of Mountain Rebalance and Nicole Koch of Power Restore Yoga
X-ALT-DESC;FMTTYPE=text/html:Cortisol is our bossiest midlife hormone. Learn how it changes in midlife and how to get it to work for you so you can: burn fat\, feel relaxed\, sleep well\, balance mood\, support hormones\, and more. Learn surprising things that impact cortisol and ways to work with it.<br />\nEnjoy a wonderful stress reducing practice with the incredible Nicole Koch of PowerRestoreYoga. Nicole will weave in breath\, qigong\, and vagus nerve wisdom to help calm your cortisol. April will be loaded with AHA moments where you understand your body and how to work with it to balance hormones. Each month we gather together with a new guest cohost to learn about our shifting midlife biology and find tools to improve how we feel. It takes a village! Get your ticket while you can.&nbsp\; Janel Anderson of Mountain Rebalance and Nicole Koch of Power Restore Yoga
LOCATION:Lift Workspace
UID:e.2339.83530
SEQUENCE:3
DTSTAMP:20260421T171335Z
URL:https://test.truckee.com/events/details/april-midlife-women-s-wellness-gathering-understanding-cortisol-to-help-balance-hormones-83530
END:VEVENT

END:VCALENDAR
